BEGIN:VCALENDAR
VERSION:2.0
PRODID:icalendar-ruby
CALSCALE:GREGORIAN
X-WR-TIMEZONE:Europe/Helsinki
BEGIN:VTIMEZONE
TZID:Europe/Helsinki
BEGIN:DAYLIGHT
DTSTART:20260329T040000
TZOFFSETFROM:+0200
TZOFFSETTO:+0300
RRULE:FREQ=YEARLY;BYDAY=-1SU;BYMONTH=3
TZNAME:EEST
END:DAYLIGHT
BEGIN:STANDARD
DTSTART:20261025T030000
TZOFFSETFROM:+0300
TZOFFSETTO:+0200
RRULE:FREQ=YEARLY;BYDAY=-1SU;BYMONTH=10
TZNAME:EET
END:STANDARD
END:VTIMEZONE
BEGIN:VEVENT
DTSTAMP:20260425T184215
UID:scclassic.myclub.fi-10435116
DTSTART;TZID=Europe/Helsinki:20260601T090000
DTEND;TZID=Europe/Helsinki:20260604T150000
DESCRIPTION:Classic kesäleiri järjestetään ideaparkin Bläk Boksissa 1.
 -4.6.2026. Leiri on suunnattu junioripelaajille ja mukaan voi ilmoittautua
  ikäluokasta riippumatta. \nMa 1.6. - To 4.6. Bläk Boks Ideapark\, Ideap
 arkinkatu 4\, 37570 Lempäälä. \n\n** OHJEET ILMOITTAUTUMISEN TEKEMISEEN
 : \nPakollinen kenttä:\n\nValitse pakollisista maksuista onko lapsesi lei
 rillä:  Koko viikon  Koko viikon (classic jäsen)  \nVapaaehtoiset kentä
 t: \n\nValitse mahdolliset sisaralennukset -50% leiripäivien mukaan HUOM!
  SISARALENNUS VAIN TOISESTA LAPSESTA. \n\nLEIRIN SISÄLTÖ:\nOhjelmaa joka
  päivä klo 10-15. (8.30-10.00 ja 15.00-16.00 valvottua aamu ja iltapäiv
 ätoimintaa.) \n\nMaanantai - keskiviikko  Päivät koostuu klo 10-12 ja 1
 3-15 harjoitusosioista.  Pääpaino pelaamisessa\, taidon oppimisessa sek
 ä oheisharjoittelussa.  \nTorstai  Koko päivän leiriturnaus  \n\nJOKAIS
 ELLE PÄIVÄLLE SISÄLTYY RUOKAILU.\n\nLEIRIN HINNAT:\nKoko viikko 195€\
 nJäsenhinta 180€\nSisarhinta -50% (HUOM! VAIN TOISESTA LAPSESTA!)\n\nLi
 sätietoja leiristä antaa Mikko Hernetkoski\nmikko.hernetkoski@scclassic.
 com\n044 075 3214\n\nhttps://scclassic.myclub.fi/flow/events/10435116
LOCATION:Bläk Boks\, Ideaparkinkatu 4\, 37570 Lempäälä
SEQUENCE:0
SUMMARY:Leirit: Bläk Boks kesäleiri 1.-4.6.2026
URL;VALUE=URI:https://scclassic.myclub.fi/flow/events/10435116
END:VEVENT
END:VCALENDAR
